BEGIN:VCALENDAR
VERSION:2.0
PRODID:-//A Házasság Kovásza - ECPv6.10.2//NONSGML v1.0//EN
CALSCALE:GREGORIAN
METHOD:PUBLISH
X-ORIGINAL-URL:https://hazassagkovasza.hu
X-WR-CALDESC:Events for A Házasság Kovásza
REFRESH-INTERVAL;VALUE=DURATION:PT1H
X-Robots-Tag:noindex
X-PUBLISHED-TTL:PT1H
BEGIN:VTIMEZONE
TZID:Europe/Budapest
BEGIN:DAYLIGHT
TZOFFSETFROM:+0100
TZOFFSETTO:+0200
TZNAME:CEST
DTSTART:20250330T010000
END:DAYLIGHT
BEGIN:STANDARD
TZOFFSETFROM:+0200
TZOFFSETTO:+0100
TZNAME:CET
DTSTART:20251026T010000
END:STANDARD
END:VTIMEZONE
BEGIN:VEVENT
DTSTART;TZID=Europe/Budapest:20250424T180000
DTEND;TZID=Europe/Budapest:20250424T200000
DTSTAMP:20260420T022510
CREATED:20250312T133403Z
LAST-MODIFIED:20250312T133403Z
UID:614-1745517600-1745524800@hazassagkovasza.hu
SUMMARY:Vénuszi fényünk birtokba vétele Sárkány papnőként
DESCRIPTION:Online esemény \nA Fa Sárkány évében megkezdett Életfa témáját tovább boncolgatjuk a Fa Kígyó évében Szent György és Szent Mihály napján. \n\nMi történt az Égi Paradicsomban?\nValóban ki lettünk űzve az Édenkertből\, mert ettünk a Tudás Fájáról?\nMit jelképez a Kígyó a Fa körül?\nHogyan lett a Nő eredendően bűnös?\n\nIdén a sárkányokkal erre keressük a mélyebb válaszokat önmagunkban. Szent György napján felemelkedünk az égre Sárkány Papnőként a vénuszi szépségünk fényességének megtalálására\, míg Szent Mihály napján alászállunk a belső Édenkertünk erőforrásainak megkeresésére.
URL:https://hazassagkovasza.hu/event/venuszi-fenyunk-birtokba-vetele-sarkany-papnokent/
LOCATION:Online esemény
CATEGORIES:Coaching
ATTACH;FMTTYPE=image/jpeg:https://hazassagkovasza.hu/wp-content/uploads/2025/03/2151620026.jpg
END:VEVENT
BEGIN:VEVENT
DTSTART;TZID=Europe/Budapest:20250414T110000
DTEND;TZID=Europe/Budapest:20250414T160000
DTSTAMP:20260420T022510
CREATED:20250312T093025Z
LAST-MODIFIED:20250312T093025Z
UID:585-1744628400-1744646400@hazassagkovasza.hu
SUMMARY:Garáb hangfürdő
DESCRIPTION:Nyitott\, regisztrációhoz kötött \nA hangfürdőről \nKisebb hangtálakkal\, gongokkal\, és egyéb intuitív\, zeneterápiás hangszerekkel színesített\, rezgésszint emelő hangélmény\, mely támogatja lényünk egységét\, nyugalmát\, békéjét.\nEzen alkalmakon\, a Samsara\, a világ legnagyobb hangtálja\, valamint az egyedi\, hangsorokra behangolt haranghangtálak is nagy szerepet kapnak.\nRezgéseik áthatják a Szentély terét\, és a résztvevőket. \nTovábbi információ
URL:https://hazassagkovasza.hu/event/garab-hangfurdo/
LOCATION:Garáb
CATEGORIES:Coaching
ATTACH;FMTTYPE=image/jpeg:https://hazassagkovasza.hu/wp-content/uploads/2024/10/garab2.jpg
END:VEVENT
BEGIN:VEVENT
DTSTART;TZID=Europe/Budapest:20250317T110000
DTEND;TZID=Europe/Budapest:20250317T160000
DTSTAMP:20260420T022510
CREATED:20250312T143107Z
LAST-MODIFIED:20250312T143107Z
UID:633-1742209200-1742227200@hazassagkovasza.hu
SUMMARY:Garáb hangfürdő
DESCRIPTION:Nyitott\, regisztrációhoz kötött \nA hangfürdőről \nKisebb hangtálakkal\, gongokkal\, és egyéb intuitív\, zeneterápiás hangszerekkel színesített\, rezgésszint emelő hangélmény\, mely támogatja lényünk egységét\, nyugalmát\, békéjét.\nEzen alkalmakon\, a Samsara\, a világ legnagyobb hangtálja\, valamint az egyedi\, hangsorokra behangolt haranghangtálak is nagy szerepet kapnak.\nRezgéseik áthatják a Szentély terét\, és a résztvevőket. \nTovábbi információ
URL:https://hazassagkovasza.hu/event/garab-hangfurdo-10/
LOCATION:Garáb
CATEGORIES:Coaching
ATTACH;FMTTYPE=image/jpeg:https://hazassagkovasza.hu/wp-content/uploads/2024/10/garab2.jpg
END:VEVENT
END:VCALENDAR